BEGIN:VCALENDAR
VERSION:2.0
PRODID:-//Volt Europa//Events//EN
CALSCALE:GREGORIAN
METHOD:PUBLISH
BEGIN:VEVENT
UID:20240228-leuven-1709146800@voltbelgium.org
DTSTAMP:20260422T232624Z
DTSTART;TZID=Europe/Amsterdam:20240228T200000
DTEND;TZID=Europe/Amsterdam:20240228T213000
SUMMARY:Leuven get-together
DESCRIPTION:Team-meeting and get-together in Leuven.
LOCATION:Café Tempo\, Kessel-Lo
URL:https://voltbelgium.org/events/20240228-leuven
END:VEVENT
END:VCALENDAR
