BEGIN:VCALENDAR
VERSION:2.0
PRODID:-//Volt Europa//Events//EN
CALSCALE:GREGORIAN
METHOD:PUBLISH
BEGIN:VEVENT
UID:20240222-minos-1708627500@voltbelgium.org
DTSTAMP:20260423T161502Z
DTSTART;TZID=Europe/Amsterdam:20240222T194500
DTEND;TZID=Europe/Amsterdam:20240222T213000
SUMMARY:Volt & Minos in Gent (NL)
DESCRIPTION:Kom op 22 februari naar Auditorium 2 Franz Cumont en treed in d
 ialoog met MEP Sophie in 't Veld en Volt rond stellingen over interessante 
 Europese vraagstukken. Laat je inspireren door Sophie's inzichten over de s
 taat van Europa en deel je eigen meningen over Europese thema’s. Aan de h
 and van handige stellingen wordt het gesprek op gang getrokken. Verloop van
  de avond 19.45u : Deuren open 20.00u : Welkom en inleiding 20.15u : MEP So
 phie in ’t Veld aan het woord 20.30-21.30u : Stellingen over Eur
LOCATION:Blandijnberg 2\, 9000 Gent
URL:https://voltbelgium.org/events/20240222-minos
END:VEVENT
END:VCALENDAR
