BEGIN:VCALENDAR
VERSION:2.0
PRODID:-//Volt Europa//Events//EN
CALSCALE:GREGORIAN
METHOD:PUBLISH
BEGIN:VEVENT
UID:20240215-meetgreetbxl-1708018200@voltbelgium.org
DTSTAMP:20260423T161732Z
DTSTART;TZID=Europe/Amsterdam:20240215T183000
DTEND;TZID=Europe/Amsterdam:20240215T220000
SUMMARY:Meet & Greet Brussels
DESCRIPTION:It is time for another Meet & Greet in the heart of Brussels! U
 pstairs at Café Merlo in the cozy Dansaert area\, you will find a warm hot
  spot. Share a drink and talk politics with engaged Volters and pitch your 
 newest democratic innovative ideas to our candidates. We will see you on Th
 ursday night\, and bring your friends\, colleagues and family. Everyone is 
 welcome!
LOCATION:Café Merlo\, Quai aux Briques 80\, 1000 Bruxelles (upstairs)
URL:https://voltbelgium.org/events/20240215-meetgreetbxl
END:VEVENT
END:VCALENDAR
