BEGIN:VCALENDAR
VERSION:2.0
PRODID:-//Volt Europa//Events//EN
CALSCALE:GREGORIAN
METHOD:PUBLISH
BEGIN:VEVENT
UID:20240214-beleidscafe-1707935400@voltbelgium.org
DTSTAMP:20260423T161543Z
DTSTART;TZID=Europe/Amsterdam:20240214T193000
DTEND;TZID=Europe/Amsterdam:20240214T230000
SUMMARY:Beleidscafé Betaalbaar Wonen (NL)
DESCRIPTION:Voel de energie van verandering op het "Beleidscafé Betaalbaar
  Wonen" op woensdag 14 februari in het bruisende Leuven! 🏠✨ Na een fli
 tsende (15 minuten durende) presentatie over de cruciale elementen van ons 
 Regionaal (Vlaams) en Europees beleidsprogramma over wonen\, duiken we met 
 gedreven kandidaten en een (hopelijk) enthousiast publiek in een bevlogen d
 ebat over pittige stellingen rond betaalbaar wonen. Onder andere onze kandi
 daten Richard Kelder (co-lijsttrekker Vlaams Regionaal Parlement)\, Ul
LOCATION:Café Tempo\, Baron August de Becker Remyplein 52\, Leuven
URL:https://voltbelgium.org/events/20240214-beleidscafe
END:VEVENT
END:VCALENDAR
