BEGIN:VCALENDAR
VERSION:2.0
PRODID:-//Volt Europa//Events//EN
CALSCALE:GREGORIAN
METHOD:PUBLISH
BEGIN:VEVENT
UID:20240131-leuven-1706727600@voltbelgium.org
DTSTAMP:20260423T104411Z
DTSTART;TZID=Europe/Amsterdam:20240131T200000
DTEND;TZID=Europe/Amsterdam:20240131T213000
SUMMARY:Leuven get-together
DESCRIPTION:Team-meeting and get-together in Leuven.
LOCATION:Café Tempo\, Kessel-Lo
URL:https://voltbelgium.org/events/20240131-leuven
END:VEVENT
END:VCALENDAR
