BEGIN:VCALENDAR
VERSION:2.0
PRODID:-//Volt Europa//Events//EN
CALSCALE:GREGORIAN
METHOD:PUBLISH
BEGIN:VEVENT
UID:20240130-evetalk-1706889600@voltbelgium.org
DTSTAMP:20260423T161543Z
DTSTART;TZID=Europe/Amsterdam:20240202T170000
DTEND;TZID=Europe/Amsterdam:20240202T190000
SUMMARY:Evening Discussion - The future of food in Europe
DESCRIPTION:📆 02/02/2024 🕑 17:30 - 19:00 📍 Café Lulu\, 101 Rue du
  page 1050 Bruxelles (FR) Dès les annnés 50\, l'agriculture a été une d
 es politiques principales de l'intégration européenne et\, tout en traver
 sant évolutions et réformes\, elle a gardé sa centralité jusqu'à aujou
 rd'hui. Rejoignez nous ce vendredi pour une conversation sur le passé\, le
  présent et le futur de la production alimentairr en Europe ! (EN) Since t
 he 1950s\, agriculture has been one of the main policies of European integr
 ation\, and - thr
LOCATION:Lulu Home Interior and Café - Rue du Page 101\, 1050 Ixelles
URL:https://voltbelgium.org/events/20240130-evetalk
END:VEVENT
END:VCALENDAR
