BEGIN:VCALENDAR
VERSION:2.0
PRODID:-//Volt Europa//Events//EN
CALSCALE:GREGORIAN
METHOD:PUBLISH
BEGIN:VEVENT
UID:20240123-czechia-1706031000@voltbelgium.org
DTSTAMP:20260423T230654Z
DTSTART;TZID=Europe/Amsterdam:20240123T183000
DTEND;TZID=Europe/Amsterdam:20240123T220000
SUMMARY:Volt Belgium meets Volt Czechia and SEN 21
DESCRIPTION:Come meet the Belgian and Czech team! Přijď se setkat s belgi
 ckým a českým týmem! Kom en ontmoet het Belgische en Tsjechische team! 
 Venez rencontrer l’équipe belge et tchèque ! 📌 Café Merlo (upstairs
 )\, Baksteenkaai 80\, 1000 Brussels ⏰ Tuesday 23-01\, 18:30 Těšíme se 
 na Tebe! We look forward seeing you! Tot dinsdagavond! Nous te verrons dans
  la soirée ! Everyone is welcome to join!
LOCATION:Café Merlo\, Baksteenkaai 80\, 1000 Brussel
URL:https://voltbelgium.org/events/20240123-czechia
END:VEVENT
END:VCALENDAR
