BEGIN:VCALENDAR
VERSION:2.0
PRODID:-//Volt Europa//Events//EN
CALSCALE:GREGORIAN
METHOD:PUBLISH
BEGIN:VEVENT
UID:20240120-cafepolitiqueliege-1705755600@voltbelgium.org
DTSTAMP:20260423T104139Z
DTSTART;TZID=Europe/Amsterdam:20240120T140000
DTEND;TZID=Europe/Amsterdam:20240120T180000
SUMMARY:Café Politique Liège
DESCRIPTION:L'avenir de l'Europe avec Volt Samedi 20 janvier 14h00 - 18h00 
 Lieu: Slow Now Rue de Fétinne\, 39 4020 Liège Café politique avec notre 
 candidate francophone pour le Parlement européen\, Suzana Carp. Notre cand
 idate entamera la discussion avec vous sur les défis et opportunités pour
  l'Union européenne dans un monde qui change à une vitesse vertigineuse. 
 Vous êtes cordialement invités à participer à la discussion\, et à res
 ter pour discuter autour d'un verre par la suite. C'est le moment de faire 
 con
LOCATION:Slow Now\, Rue de Fétinne\, 39\, 4020 Liège
URL:https://voltbelgium.org/events/20240120-cafepolitiqueliege
END:VEVENT
END:VCALENDAR
