BEGIN:VCALENDAR
VERSION:2.0
PRODID:-//Volt Europa//Events//EN
CALSCALE:GREGORIAN
METHOD:PUBLISH
BEGIN:VEVENT
UID:20240113-polcafebxl-1707847200@voltbelgium.org
DTSTAMP:20260423T104015Z
DTSTART;TZID=Europe/Amsterdam:20240213T190000
DTEND;TZID=Europe/Amsterdam:20240213T220000
SUMMARY:Political Café Brussels
DESCRIPTION:Venue:  The Sister Brussels Cafe  (first floor) 3 Vlees-en-Br
 oodstraat\, 1000 Brussel / Rue Chair et Pain 3\, 1000 Bruxelles Very close 
 to the Grand Place Candidates:  Bram \,  Sophie \,  Emeric  and  Hans Moder
 ator: Erika More info to be announced.
LOCATION:The Sisters Brussels Café (first floor)
URL:https://voltbelgium.org/events/20240113-polcafebxl
END:VEVENT
END:VCALENDAR
