BEGIN:VCALENDAR
VERSION:2.0
PRODID:-//Volt Europa//Events//EN
CALSCALE:GREGORIAN
METHOD:PUBLISH
BEGIN:VEVENT
UID:20240112-epvisit-1705062600@voltbelgium.org
DTSTAMP:20260423T231730Z
DTSTART;TZID=Europe/Amsterdam:20240112T133000
DTEND;TZID=Europe/Amsterdam:20240112T200000
SUMMARY:European Parliament Visit
DESCRIPTION:Are you interested to learn more about the European Parliament\
 , the outlook for the 2024 European elections and the campaign? Then sign u
 p for the visit to the European Parliament on January 12th! The programme s
 tarts at 13:30 and it includes an introduction to the European parliament\,
  visit to the ALDE Party\, and presentations by various professionals of po
 litical communication\, as well as staff from the offices of Sophie in ‘t
  Veld and Damian Boeselager. At 18:30 the event will be concluded by
LOCATION:European Parliament\, Brussels
URL:https://voltbelgium.org/events/20240112-epvisit
END:VEVENT
END:VCALENDAR
