BEGIN:VCALENDAR
VERSION:2.0
PRODID:-//Volt Europa//Events//EN
CALSCALE:GREGORIAN
METHOD:PUBLISH
BEGIN:VEVENT
UID:20240110-leuven-1704913200@voltbelgium.org
DTSTAMP:20260423T133647Z
DTSTART;TZID=Europe/Amsterdam:20240110T200000
DTEND;TZID=Europe/Amsterdam:20240110T213000
SUMMARY:Leuven get-together
DESCRIPTION:Team-meeting and get-together in Leuven.
LOCATION:Café Tempo\, Kessel-Lo
URL:https://voltbelgium.org/events/20240110-leuven
END:VEVENT
END:VCALENDAR
