BEGIN:VCALENDAR
VERSION:2.0
PRODID:-//Volt Europa//Events//EN
CALSCALE:GREGORIAN
METHOD:PUBLISH
BEGIN:VEVENT
UID:20231220-politiekcafeinhasselt-1703097000@voltbelgium.org
DTSTAMP:20260423T110642Z
DTSTART;TZID=Europe/Amsterdam:20231220T193000
DTEND;TZID=Europe/Amsterdam:20231220T210000
SUMMARY:Politiek Café in Hasselt (NL)
DESCRIPTION:De toekomst van Europa met Europarlementslid Sophie in ‘t Vel
 d Woensdag 20 december 19:30 - 21:00 Locatie:  't Borrelhuis Witte Nonnenst
 raat 28 3500 Hasselt De derde editie van het Politiek Café zal plaatsvinde
 n in Hasselt! Politiek Café met Sophie in ‘t Veld\, Europarlementslid va
 n de pan-Europese politieke partij Volt\, over de uitdagingen en kansen voo
 r de Europese Unie in een razendsnel veranderende wereld. Je bent van harte
  welkom om mee te doen aan de discussie\, en voor napraten bij een dran
LOCATION:'t Borrelhuis\, Witte Nonnenstraat 28\, 3500 Hasselt
URL:https://voltbelgium.org/events/20231220-politiekcafeinhasselt
END:VEVENT
END:VCALENDAR
