BEGIN:VCALENDAR
VERSION:2.0
PRODID:-//Volt Europa//Events//EN
CALSCALE:GREGORIAN
METHOD:PUBLISH
BEGIN:VEVENT
UID:20231212-meetgreetbxl-1702402200@voltbelgium.org
DTSTAMP:20260426T020117Z
DTSTART;TZID=Europe/Amsterdam:20231212T183000
DTEND;TZID=Europe/Amsterdam:20231212T220000
SUMMARY:Meet & Greet Brussels
DESCRIPTION:It is time for another Meet & Greet in the heart of Brussels! U
 pstairs at Café Merlo in the cozy Dansaert area\, you will find a warm hot
  spot surrounded by the Winter Festivities. Share a drink and talk politics
  with engaged Volters and pitch your newest democratic innovative ideas to 
 our candidates. We will see you on Tuesday night\, and bring your friends\,
  colleagues and family. Everyone is welcome!
LOCATION:Café Merlo\, Quai aux Briques 80\, 1000 Bruxelles
URL:https://voltbelgium.org/events/20231212-meetgreetbxl
END:VEVENT
END:VCALENDAR
