BEGIN:VCALENDAR
VERSION:2.0
PRODID:-//Volt Europa//Events//EN
CALSCALE:GREGORIAN
METHOD:PUBLISH
BEGIN:VEVENT
UID:20231210-kazernedossin-1702215000@voltbelgium.org
DTSTAMP:20260423T194702Z
DTSTART;TZID=Europe/Amsterdam:20231210T143000
DTEND;TZID=Europe/Amsterdam:20231210T163000
SUMMARY:Guided tour in the Kazerne Dossin
DESCRIPTION:Dear Volters\,  Volt Belgium and MEP Sophie in 't Veld are exc
 ited to welcome you to a guided tour in the Kazerne Dossin to commemorate t
 he 75th anniversary of the Universal Declaration of Human Rights. The guide
 d tour has been booked for Sunday 10 December 14h30 - 16h30. There are 20 p
 laces\, first come first serve. Sign up here:  https://forms.gle/Jnzm9VmjbW
 Fc9xNB6 Prior to the visit Volt will flyer. And following the visit Volt an
 d Sophie invite you to have a drink together. About: 25\,490 Jews 
LOCATION:Kazerne Dossin\, Mechelen
URL:https://voltbelgium.org/events/20231210-kazernedossin
END:VEVENT
END:VCALENDAR
