BEGIN:VCALENDAR
VERSION:2.0
PRODID:-//Volt Europa//Events//EN
CALSCALE:GREGORIAN
METHOD:PUBLISH
BEGIN:VEVENT
UID:20231202-mol-1701505800@voltbelgium.org
DTSTAMP:20260423T133459Z
DTSTART;TZID=Europe/Amsterdam:20231202T093000
DTEND;TZID=Europe/Amsterdam:20231202T150000
SUMMARY:Volt in Mol - zaterdag 2 december (NL)
DESCRIPTION:Op  zaterdag 2 december  komt Volt zich voorstellen in  Mol . E
 en nieuw alternatief in het Belgische politieke landschap — vernieuwend\,
  duurzaam en Europees. Kom een kijkje nemen en doe mee aan het debat. Insch
 rijven  kan voor 30 november via  dit formulier . Met: Sophie in ‘t Veld 
  — Europees parlementslid en lijsttrekker Europese verkiezingen Jasper Co
 osemans  — lijsttrekker federaal parlement Jeroen Van Loock  — lijsttre
 kker Vlaams parlement Bram Vandeninden  — beleidscoördinator en 2e plaat
 s
LOCATION:Onder Den Toren\, Markt 12\, 2400 Mol
URL:https://voltbelgique.org/evenements/20231202-mol
END:VEVENT
END:VCALENDAR
