BEGIN:VCALENDAR
VERSION:2.0
PRODID:-//Volt Europa//Events//EN
CALSCALE:GREGORIAN
METHOD:PUBLISH
BEGIN:VEVENT
UID:20231129-climatemarch-1701603000@voltbelgium.org
DTSTAMP:20260423T161553Z
DTSTART;TZID=Europe/Amsterdam:20231203T123000
DTEND;TZID=Europe/Amsterdam:20231203T160000
SUMMARY:Climate March Brussels!
DESCRIPTION:Volt Belgium needs you! This Sunday (03/12)\, we will march tog
 ether for our planet and our future by joining the Brussels klimaatmars/mar
 checlimat. Being the only pan-European climate party\, our voice is crucial
 . Come in purple and make our presence unmissable. It will be more than a m
 arch\; it's a statement for green energy\, nature restoration and sustainab
 le agriculture. We need the change now. Let's go\, Volt! Dress as much as p
 ossible in purple and make our presence unmissable. It's more than 
LOCATION:Avenue Albert II laan
URL:https://voltbelgium.org/events/20231129-climatemarch
END:VEVENT
END:VCALENDAR
