BEGIN:VCALENDAR
VERSION:2.0
PRODID:-//Volt Europa//Events//EN
CALSCALE:GREGORIAN
METHOD:PUBLISH
BEGIN:VEVENT
UID:20231125-europa-ga-1700895600@voltbelgium.org
DTSTAMP:20260423T192628Z
DTSTART;TZID=Europe/Amsterdam:20231125T080000
DTEND;TZID=Europe/Amsterdam:20231126T180000
SUMMARY:Volt Europa General Assembly
DESCRIPTION:FÃªtez votre chemin vers l'avenir de l'Europe : Rejoignez l'AG 
 et participez Ã  faÃ§onner la politique ! De l'Ã©lection du nouveau conseil
  europÃ©en Ã  la validation de notre programme Ã©lectoral unique paneuropÃ©
 en\, votre voix est au cÅ“ur du parcours de Volt vers les Ã©lections europÃ
 ©ennes de 2024. L'Europe est confrontÃ©e Ã  des dÃ©fis critiques - changeme
 nt climatique\, montÃ©e du populisme et inÃ©galitÃ©s sociales. Lors de cett
 e AG\, nous aborderons directement ces problÃ¨mes\, et vos points de vue et
  perspect
LOCATION:Paris
URL:https://voltbelgique.org/evenements/20231125-europa-ga
END:VEVENT
END:VCALENDAR
