BEGIN:VCALENDAR
VERSION:2.0
PRODID:-//Volt Europa//Events//EN
CALSCALE:GREGORIAN
METHOD:PUBLISH
BEGIN:VEVENT
UID:volt-hub-open-1101-1736586000@voltbelgium.org
DTSTAMP:20260423T133641Z
DTSTART;TZID=Europe/Amsterdam:20250111T100000
DTEND;TZID=Europe/Amsterdam:20250111T140000
SUMMARY:Volt Hub open
DESCRIPTION:In January\, the Brussels team is launching a new activity: eve
 ry Saturday in January \, the Hub will be open. Everyone is invited and enc
 ouraged to pass by!  A member of the Brussels team will be there and happy
  to discuss policy\, strategy\, upcoming events\, how to get involved in th
 e various activities… The Hub will also be open to the general public\, s
 o feel free to join and give a hand in welcoming them.
LOCATION:Volt Hub\, Galerie du Cinquantenaire\, Av. de Tervuren 32-36\, 104
 0 Etterbeek
URL:https://voltbelgium.org/brussels/events/volt-hub-open-1101
END:VEVENT
END:VCALENDAR
