BEGIN:VCALENDAR
VERSION:2.0
PRODID:-//Volt Europa//Events//EN
CALSCALE:GREGORIAN
METHOD:PUBLISH
BEGIN:VEVENT
UID:the-woman-behind-the-image-world-march-of-women-1741438800@voltbelgium.
 org
DTSTAMP:20260423T231720Z
DTSTART;TZID=Europe/Amsterdam:20250308T140000
DTEND;TZID=Europe/Amsterdam:20250308T170000
SUMMARY:The Woman Behind the Image & World March of Women
DESCRIPTION:Coffee and cake with  Karima El Hachimi \, Volt Belgium board m
 ember\, to talk about “The woman behind the image - how patriarchal\, ide
 ological and cultural ideas trouble our views of a person”. This event is
  in English only. Afterwards\, we will join the World March of Women\, star
 ting at 15.00 at the place de l’Albertine/Albertinaplein. Looking forward
  to seeing you later\, Marie and Erika 💜Co-presidents of Volt Brussels
 
LOCATION:Volt Hub\, Galeries du Cinquantenaire\, Avenue de Tervuren/Tervure
 nlaan 32-36
URL:https://voltbelgium.org/brussels/events/the-woman-behind-the-image-worl
 d-march-of-women
END:VEVENT
END:VCALENDAR
