BEGIN:VCALENDAR
VERSION:2.0
PRODID:-//Volt Europa//Events//EN
CALSCALE:GREGORIAN
METHOD:PUBLISH
BEGIN:VEVENT
UID:meetgreet-for-students-1746635400@voltbelgium.org
DTSTAMP:20260423T104755Z
DTSTART;TZID=Europe/Amsterdam:20250507T183000
DTEND;TZID=Europe/Amsterdam:20250507T203000
SUMMARY:Meet&Greet for students
DESCRIPTION:Meet & Greet for students of the Brussels region. We look forwa
 rd to seeing you all around a drink before the exam period starts. We will 
 be joined by Emeric Massaut\, co-president of Volt Belgium\, and Alixxa Sal
 via\, member of the Volt Belgium Board and student at ULB.
LOCATION:Ginette Cim Dix\, Av de l'Université 1\, Ixelles
URL:https://voltbelgium.org/brussels/events/meetgreet-for-students
END:VEVENT
END:VCALENDAR
