BEGIN:VCALENDAR
VERSION:2.0
PRODID:-//Volt Europa//Events//EN
CALSCALE:GREGORIAN
METHOD:PUBLISH
BEGIN:VEVENT
UID:meet-volt-mep-anna-strolenberg-1747240200@voltbelgium.org
DTSTAMP:20260423T105020Z
DTSTART;TZID=Europe/Amsterdam:20250514T183000
DTEND;TZID=Europe/Amsterdam:20250514T210000
SUMMARY:Meet Volt MEP Anna Strolenberg
DESCRIPTION:Our Volt MEP Anna Strolenberg will be joining Volt Belgium to d
 iscuss her work in the Women’s Rights and Gender Equality Committee of th
 e European Parliament. Anna looks forward to discussing with you all questi
 ons you might have on Women in the labour market ⁠– combating gender se
 gregation and increasing women’s participation in the workforce Sexual an
 d reproductive health and rights Womens’ rights online and cyberviolence 
 against women Program 18.30 Doors open 19.00 Welcome by Marie de Mouel a
LOCATION:Volt Hub\, Galerie du Cinquantenaire\, Av. de Tervuren 32-36\, 104
 0 Etterbeek
URL:https://voltbelgium.org/events/meet-volt-mep-anna-strolenberg
END:VEVENT
END:VCALENDAR
