BEGIN:VCALENDAR
VERSION:2.0
PRODID:-//Volt Europa//Events//EN
CALSCALE:GREGORIAN
METHOD:PUBLISH
BEGIN:VEVENT
UID:meet-greet-with-alast-mojtahed-najafi-1751302800@voltbelgium.org
DTSTAMP:20260423T110237Z
DTSTART;TZID=Europe/Amsterdam:20250630T190000
DTEND;TZID=Europe/Amsterdam:20250630T220000
SUMMARY:Meet & Greet with Alast Mojtahed Najafi
DESCRIPTION:Join us for our next Meet and Greet with special guest Alast Mo
 jtahed Najafi Alast lives between Brussels and Berlin and was recently elec
 ted to the board of Volt Germany.You are cordially invited to join us for s
 ome informal discussions about the challenges of our two chapters for growi
 ng and for preparing the elections in 2029.
LOCATION:Café Merlo\, Quai aux briques 80\, Bruxelles 1000
URL:https://voltbelgium.org/events/meet-greet-with-alast-mojtahed-najafi
END:VEVENT
END:VCALENDAR
