BEGIN:VCALENDAR
VERSION:2.0
PRODID:-//Volt Europa//Events//EN
CALSCALE:GREGORIAN
METHOD:PUBLISH
BEGIN:VEVENT
UID:meet-greet-brussels-1725982200@voltbelgium.org
DTSTAMP:20260423T161553Z
DTSTART;TZID=Europe/Amsterdam:20240910T173000
DTEND;TZID=Europe/Amsterdam:20240910T200000
SUMMARY:Meet & Greet Brussels
DESCRIPTION:Today we will be interviewing people using the Volt Sense tool 
 across Brussels 🎤 You can test the tool here [ https://collector.sensema
 ker-suite.com/collector?projectID=d1c06283-3a51-4050-ac6d-ea29ae75f32c&ID=v
 oltsense ] It will be also the occasion to meet possible voters from Etterb
 eek and Saint-Gilles\, among which we are collecting signatures 🗒️ The
  RDV is at  📍Place de Londres\, Ixelles ⌚ 17h30 We will move across Ix
 elles with a special guest Francesca Romana D'Antuono⁩\, Co-President of 
 Volt 
LOCATION:Place de Londres\, Ixelles
URL:https://voltbelgium.org/events/meet-greet-brussels
END:VEVENT
END:VCALENDAR
