BEGIN:VCALENDAR
VERSION:2.0
PRODID:-//Volt Europa//Events//EN
CALSCALE:GREGORIAN
METHOD:PUBLISH
BEGIN:VEVENT
UID:fete-de-lavenue-de-tervuren-1746352800@voltbelgium.org
DTSTAMP:20260423T105956Z
DTSTART;TZID=Europe/Amsterdam:20250504T120000
DTEND;TZID=Europe/Amsterdam:20250504T190000
SUMMARY:Fête de l'avenue de Tervuren
DESCRIPTION:On the 4th of May there will be the annual Tervuren laan (Avenu
 e de Tervuren) party.  It is a day long feast that embraces 3 KM of events 
 alongside the Avenue de Tervuren and crosses 3 communes\, there will be foo
 d-trucks\, music\, games\, kids events\, shows\, and much more.   Our Volt 
 Hub is located on this avenue (Merode - Cinquantenaire metro station area) 
 and we can will use it to organise our Spring party!
LOCATION:Volt Hub\, Galerie du Cinquantenaire\, Av. de Tervuren 32-36\, 104
 0 Etterbeek
URL:https://voltbelgium.org/brussels/events/fete-de-lavenue-de-tervuren
END:VEVENT
END:VCALENDAR
