BEGIN:VCALENDAR
VERSION:2.0
PRODID:-//Volt Europa//Events//EN
CALSCALE:GREGORIAN
METHOD:PUBLISH
BEGIN:VEVENT
UID:evening-market-at-tervuren-1757170800@voltbelgium.org
DTSTAMP:20260423T135854Z
DTSTART;TZID=Europe/Amsterdam:20250906T170000
DTEND;TZID=Europe/Amsterdam:20250906T220000
SUMMARY:Evening Market at Tervuren
DESCRIPTION:The Tervuren evening market is finally back. Come and enjoy a s
 ummerlike atmosphere\, pleasant encounters\, and plenty of conviviality! Th
 ere will be numerous stalls\, drinks\, and music and of course\, Volt will 
 also be there. At our stand you can learn all about our achievements in the
  municipal council as well as our future plans. You’ll also have the  cha
 nce to meet the municipal councillors of Tervuren Unie + Volt  for a friend
 ly chat: Tracey D'Afters Serge Liesenborghs Olivier Thomas Geoffroy d
LOCATION:Markt 13\, 3080 Tervuren
URL:https://voltbelgium.org/events/evening-market-at-tervuren
END:VEVENT
END:VCALENDAR
