BEGIN:VCALENDAR
VERSION:2.0
PRODID:-//Volt Europa//Events//EN
CALSCALE:GREGORIAN
METHOD:PUBLISH
BEGIN:VEVENT
UID:cafe-with-italians-in-brussels-auderghem-1728404100@voltbelgium.org
DTSTAMP:20260423T105636Z
DTSTART;TZID=Europe/Amsterdam:20241008T181500
DTEND;TZID=Europe/Amsterdam:20241008T194500
SUMMARY:Café with Italians in Brussels - Auderghem
DESCRIPTION:Dear Italians in Brussels\, We are  Alberto\, Barbara\, Frances
 ca\, and Mauro \, members of  Volt Europa \, the only party for Europeans\,
  present throughout the EU with a single program\, name\, and message. Sinc
 e its launch in 2017\, Volt Europa has proposed new energy in European poli
 tics: a politics close to the priorities and needs of citizens. Our politic
 s is progressive and aims for citizen participation and a fair ecological t
 ransformation. With the municipal elections on 13 October \, we want to b
LOCATION:Den Dam\, Ch. de Wavre 1741\, Auderghem 1160
URL:https://voltbelgium.org/brussels/events/cafe-with-italians-in-brussels-
 auderghem
END:VEVENT
END:VCALENDAR
