BEGIN:VCALENDAR
VERSION:2.0
PRODID:-//Volt Europa//Events//EN
CALSCALE:GREGORIAN
METHOD:PUBLISH
BEGIN:VEVENT
UID:cafe-politique-quelles-priorites-pour-la-region-bruxelles-capitale-1738
 258200@voltbelgium.org
DTSTAMP:20260423T110114Z
DTSTART;TZID=Europe/Amsterdam:20250130T183000
DTEND;TZID=Europe/Amsterdam:20250130T210000
SUMMARY:Café politique : Quelles priorités pour la Région Bruxelles Capi
 tale ?
DESCRIPTION:Het laatste evenement van januari zal het toneel vormen voor de
  eerste “beleidscyclus”\, voornamelijk door het identificeren van de be
 langrijkste prioriteiten waarop ons hoofdstuk zich moet concentreren om een
  ​​solide programma voor de volgende regionale verkiezingen op te bouwe
 n. De voornaamste gesprekstaal zal Frans zijn. Het vindt plaats in de  Hub\
 , Galerie du Cinquantenaire\, Av. de Tervuren 32-36 \, volgens de volgende 
 agenda: 18.30 Accueil et networking 19.00 Présentation du concept des “C
 yc
LOCATION:Volt Hub\, Galerie du Cinquantenaire\, Av. de Tervuren 32-36
URL:https://voltbelgie.org/brussel/agenda/cafe-politique-quelles-priorites-
 pour-la-region-bruxelles-capitale
END:VEVENT
END:VCALENDAR
