BEGIN:VCALENDAR
VERSION:2.0
PRODID:-//Volt Europa//Events//EN
CALSCALE:GREGORIAN
METHOD:PUBLISH
BEGIN:VEVENT
UID:brussels-local-assembly-1765391400@voltbelgium.org
DTSTAMP:20260423T072420Z
DTSTART;TZID=Europe/Amsterdam:20251210T193000
DTEND;TZID=Europe/Amsterdam:20251210T220000
SUMMARY:Brussels Local Assembly
DESCRIPTION:Volt Brussels invites you to its Local Assembly! We are looking
  for candidates for the positions of  two City Co-leads for Volt Brussels .
  Female and diverse Volt members are particularly encouraged to apply. Plea
 se send your application before Friday\, 5 December 2025\, 18h00\, to  brus
 sels@voltbelgium.org . ‼️Volt members who are entitled to vote will rec
 eive a separate email with the voting token.‼️ 💜 Agenda for the Loca
 l Assembly 💜 19:30 Welcome by the current City Co-Leads 19:40 Presentati
 on o
LOCATION:Café Merlo\, Quai aux briques/Baksteenkaai 80\, 1000 Brussels
URL:https://voltbelgium.org/brussels/events/brussels-local-assembly
END:VEVENT
END:VCALENDAR
