BEGIN:VCALENDAR
VERSION:2.0
PRODID:-//Volt Europa//Events//EN
CALSCALE:GREGORIAN
METHOD:PUBLISH
BEGIN:VEVENT
UID:aperodebate-living-in-europe-1745510400@voltbelgium.org
DTSTAMP:20260423T230855Z
DTSTART;TZID=Europe/Amsterdam:20250424T180000
DTEND;TZID=Europe/Amsterdam:20250424T190000
SUMMARY:Apérodebate: Living in Europe
DESCRIPTION:Everyone is welcome at this free event. Languages: FR 🇫🇷 
 EN 🇬🇧 NL 🇳🇱 IT 🇮🇹 Finding a high-quality\, stable home in
  Brussels is a process that\, in terms of timing and commitment\, resembles
  the political project of the European common home. Exaggeration aside\, th
 e housing challenge in the Brussels-Capital Region brings together young an
 d old\, new and long-time residents\, Europeans and non-Europeans\, those w
 ith financial means and those in financial difficulty. It addresses various
  aspects of social
LOCATION:Volt Hub\, Galerie du Cinquantenaire\, Av. de Tervuren 32-36
URL:https://voltbelgium.org/brussels/events/aperodebate-living-in-europe
END:VEVENT
END:VCALENDAR
