BEGIN:VCALENDAR
VERSION:2.0
PRODID:-//Volt Europa//Events//EN
CALSCALE:GREGORIAN
METHOD:PUBLISH
BEGIN:VEVENT
UID:apero-debate-meeting-with-the-lobby-climatique-citoyen-1756310400@voltb
 elgium.org
DTSTAMP:20260423T110601Z
DTSTART;TZID=Europe/Amsterdam:20250827T180000
DTEND;TZID=Europe/Amsterdam:20250827T200000
SUMMARY:Apéro debate: Meeting with Lobby Climatique Citoyen
DESCRIPTION:The season of the Apéros debates restarts on Wednesday 27 Augu
 st! For the first of the season\, Volt has the pleasure of inviting the Lob
 by Climatique Citoyen\, a non-partisan organisation present in 50+ countrie
 s. The topic of the evening will be on the new European Carbon Market\, als
 o called ETS2\, which will we start in 2027. We'll be waiting for you aroun
 d18h\, it’ll also be the perfect occasion to share a back-to-work drink!
LOCATION:Volt Hub\, Galerie du Cinquantenaire\, Av. de Tervuren 32-36\, 104
 0 Etterbeek
URL:https://voltbelgium.org/brussels/events/apero-debate-meeting-with-the-l
 obby-climatique-citoyen
END:VEVENT
END:VCALENDAR
