BEGIN:VCALENDAR
VERSION:2.0
PRODID:-//Volt Europa//Events//EN
CALSCALE:GREGORIAN
METHOD:PUBLISH
BEGIN:VEVENT
UID:apero-debate-how-to-improve-cleanliness-in-brussels-1748365200@voltbelg
 ium.org
DTSTAMP:20260423T193912Z
DTSTART;TZID=Europe/Amsterdam:20250527T190000
DTEND;TZID=Europe/Amsterdam:20250527T210000
SUMMARY:Apéro débate: How to improve cleanliness in Brussels
DESCRIPTION:Join us for our second aperitif debate\, where we will discuss 
 how to improve cleanliness in Brussels\, drawing inspiration from proposals
  and solutions that have proven effective in other cities in Belgium and Eu
 rope.
LOCATION:Volt Hub\, Galerie du Cinquantenaire\, Av. de Tervuren 32-36\, 104
 0 Etterbeek
URL:https://voltbelgium.org/brussels/events/apero-debate-how-to-improve-cle
 anliness-in-brussels
END:VEVENT
END:VCALENDAR
