BEGIN:VCALENDAR
VERSION:2.0
PRODID:-//Volt Europa//Events//EN
CALSCALE:GREGORIAN
METHOD:PUBLISH
BEGIN:VEVENT
UID:after-elections-cafe-with-italians-in-brussels-1729009800@voltbelgium.o
 rg
DTSTAMP:20260423T105020Z
DTSTART;TZID=Europe/Amsterdam:20241015T183000
DTEND;TZID=Europe/Amsterdam:20241015T203000
SUMMARY:After Elections - Café with Italians in Brussels
DESCRIPTION:Dear Italians in Brussels\, We are  Alberto\, Barbara\, Frances
 ca\, and Mauro \, members of  Volt Europa \, the only party for Europeans\,
  present throughout the EU with a single program\, name\, and message. Sinc
 e its launch in 2017\, Volt Europa has proposed new energy in European poli
 tics: a politics close to the priorities and needs of citizens. Our politic
 s is progressive and aims for citizen participation and a fair ecological t
 ransformation. With the municipal elections on 13 October \, we want to b
LOCATION:Volt headquarters\, Galerie du Cinquantenaire\, Avenue de Tervuren
  32/36\, 1040 Etterbeek (Metro Merode)
URL:https://voltbelgium.org/brussels/events/after-elections-cafe-with-itali
 ans-in-brussels
END:VEVENT
END:VCALENDAR
